BEGIN:VCALENDAR
VERSION:2.0
PRODID:-//Anka Labs, Inc. - ECPv6.15.12.2//NONSGML v1.0//EN
CALSCALE:GREGORIAN
METHOD:PUBLISH
X-ORIGINAL-URL:https://ankalabs.com
X-WR-CALDESC:Events for Anka Labs, Inc.
REFRESH-INTERVAL;VALUE=DURATION:PT1H
X-Robots-Tag:noindex
X-PUBLISHED-TTL:PT1H
BEGIN:VTIMEZONE
TZID:America/Chicago
BEGIN:DAYLIGHT
TZOFFSETFROM:-0600
TZOFFSETTO:-0500
TZNAME:CDT
DTSTART:20200308T080000
END:DAYLIGHT
BEGIN:STANDARD
TZOFFSETFROM:-0500
TZOFFSETTO:-0600
TZNAME:CST
DTSTART:20201101T070000
END:STANDARD
BEGIN:DAYLIGHT
TZOFFSETFROM:-0600
TZOFFSETTO:-0500
TZNAME:CDT
DTSTART:20210314T080000
END:DAYLIGHT
BEGIN:STANDARD
TZOFFSETFROM:-0500
TZOFFSETTO:-0600
TZNAME:CST
DTSTART:20211107T070000
END:STANDARD
BEGIN:DAYLIGHT
TZOFFSETFROM:-0600
TZOFFSETTO:-0500
TZNAME:CDT
DTSTART:20220313T080000
END:DAYLIGHT
BEGIN:STANDARD
TZOFFSETFROM:-0500
TZOFFSETTO:-0600
TZNAME:CST
DTSTART:20221106T070000
END:STANDARD
BEGIN:DAYLIGHT
TZOFFSETFROM:-0600
TZOFFSETTO:-0500
TZNAME:CDT
DTSTART:20230312T080000
END:DAYLIGHT
BEGIN:STANDARD
TZOFFSETFROM:-0500
TZOFFSETTO:-0600
TZNAME:CST
DTSTART:20231105T070000
END:STANDARD
END:VTIMEZONE
BEGIN:VEVENT
DTSTART;VALUE=DATE:20221018
DTEND;VALUE=DATE:20221020
DTSTAMP:20260421T213000
CREATED:20221014T173232Z
LAST-MODIFIED:20221014T182101Z
UID:10000010-1666051200-1666223999@ankalabs.com
SUMMARY:SkyPosium 2022
DESCRIPTION:We are very excited to host SkyPosium 2022 In-Person in Washington\, DC! SkyPosium is designed for the entire community of SkySpark users—our reseller partners\, end users\, engineering consultants\, and SaaS providers—everyone that uses or applies SkySpark. \nAbout Event We are very excited to host SkyPosium 2022 In-Person in Washington\, DC! SkyPosium is designed for the entire community of SkySpark users—our reseller partners\, end users\, engineering consultants\, and SaaS providers—everyone that uses or applies SkySpark. \nData science for the built environment is one of the hottest areas of technology and there is no question that the SkyFoundry community is leading the way. SkyPosium is a unique one-of-a-kind event that brings the community together for shared learning and networking. \nIn addition\, a vendor showcase provides attendees with the opportunity to meet with companies that offer complementary products and services to the SkyFoundry community. \nSponsors
URL:https://ankalabs.com/event/skyposium-2022/
CATEGORIES:Community Event
ATTACH;FMTTYPE=image/jpeg:https://ankalabs.com/wp-content/uploads/2022/10/SkyPosium_2022_Event_Image.jpg
END:VEVENT
BEGIN:VEVENT
DTSTART;VALUE=DATE:20220131
DTEND;VALUE=DATE:20220203
DTSTAMP:20260421T213000
CREATED:20210908T192205Z
LAST-MODIFIED:20210908T192205Z
UID:10000008-1643587200-1643846399@ankalabs.com
SUMMARY:The AHR Expo 2022
DESCRIPTION:The AHR Expo provides a unique forum where manufacturers of all sizes and specialties come together to share ideas and showcase the future of HVACR technology. Since 1930\, the AHR Expo has remained the industry’s best place for OEMs\, engineers\, contractors\, technicians\, facility operators\, architects\, educators and other industry professionals to explore the latest trends and applications and to cultivate mutually beneficial business relationships. The event is co-sponsored by ASHRAE and AHRI\, endorsed by many industry leading organizations\, and is held concurrently with ASHRAE’s Winter Conference. \nShow Dates\nMonday\, Jan 31\, 2022: 10am – 6pm \n\nTuesday\, Feb 1\, 2022: 10am – 6pm \n\nWednesday\, Feb 2\, 2022: 10am – 4pm \nShow Location\nLas Vegas Convention Center 3150 Paradise Rd\, Las Vegas\, NV 89109 \nWho Attends\nContractors (HVAC\, Refrigeration\, Plumbing\, Mechanical\, Controls) \n\nConsulting Engineers \n\nMechanical Engineers \n\nArchitects \n\nWholesalers/Distributors Importers/Exporters \n\nManufacturers Reps \n\nOEM Designers & Engineers \n\nFacility Engineers \n\nBuilding Operations Managers \n\nPublishers/Editors \n\nHVACR Educators/Students \n\nPublic Utilities \n\nGovernment Agencies \n\nPurchasing Departments \n\nTesting & Certification \n\nResearch & Development \n\nDesign/Build
URL:https://ankalabs.com/event/the-ahr-expo-2022/
CATEGORIES:Expo
ATTACH;FMTTYPE=image/jpeg:https://ankalabs.com/wp-content/uploads/2021/09/AHR-Expo_Img.jpg
ORGANIZER;CN="ASHRAE and AHRI":MAILTO:info@ahrexpo.com
END:VEVENT
BEGIN:VEVENT
DTSTART;TZID=America/Chicago:20211014T140000
DTEND;TZID=America/Chicago:20211014T150000
DTSTAMP:20260421T213000
CREATED:20210910T212740Z
LAST-MODIFIED:20210910T213114Z
UID:10000009-1634220000-1634223600@ankalabs.com
SUMMARY:Technology Engineering Cx (TECx): Why this is a necessity?
DESCRIPTION:Building Technology systems are not only networks and WiFi\, they also include life safety and security. Your building owners are often getting involved with the design/delivery of Technology systems and construction processes for the first time\, and general contractors often do not have qualified staff to handle complex systems oversight and commissioning. Technology Cx providers can help guide the systems to successful completion and desired maintainable outcomes. Operations of technology systems can include the security for all of a building’s occupants. Technology commissioning is essential to reduce schedule slips\, change orders\, and operating costs and to free up owner staff to concentrate on the mission along with the maintenance.  \nLearning Objectives\nDiscuss technology commissioning as a design and construction service. \n\nShow that properly designed and installed systems can save energy and operating budgets. \n\nDiscuss resources (people and tools) and the lack thereof in our industry. \n\nJoin in discussion with the audience about technology commissioning. \nSponsored byBASSG: BASSG has been an innovator in Building Automation Technology and BAS Analytics delivery that reduce implementation and facility management energy costs. Through in-house developed easy-to-deploy\, multi-system software tools\, BASSG branded OEM products and multiple distributorships\, BASSG can be a one-stop provider for everything BAS at an unbeatable value\, significantly lowering implementation and maintenance costs.
URL:https://ankalabs.com/event/technology-engineering-cx-tecx-why-this-is-a-necessity/
CATEGORIES:Webinars
ATTACH;FMTTYPE=image/jpeg:https://ankalabs.com/wp-content/uploads/2021/09/ACG-Webinar-Technology-Engineering-Cx_Img_1.jpg
ORGANIZER;CN="ACG":MAILTO:info@commissioning.org
END:VEVENT
BEGIN:VEVENT
DTSTART;VALUE=DATE:20211013
DTEND;VALUE=DATE:20211015
DTSTAMP:20260421T213000
CREATED:20210907T191216Z
LAST-MODIFIED:20221014T174600Z
UID:10000007-1634083200-1634255999@ankalabs.com
SUMMARY:SkyPosium 2021
DESCRIPTION:We are very excited to be back in person for SkyPosium 2021! SkyPosium is designed for the entire community of SkySpark users—our reseller partners\, end users\, engineering consultants\, and SaaS providers—everyone that uses or applies SkySpark. This year in particular there are several new and exciting features and products to share. Attendees will benefit from enlightening presentations\, insightful discussions and productive networking. SkyPosium provides 2 program tracks—one for hardcore developers and the other focused on applications\, with the majority of presentations provided by the community. A general session delivered by SkyFoundry opens the event to bring everyone up to speed on the latest features and capabilities and provide a preview of our roadmap. With major portions of the program delivered by community members\, it’s a true community event. \nData science for the built environment is one of the hottest areas of technology and there is no question that the SkyFoundry community is leading the way. SkyPosium is a unique one-of-a-kind event that brings the community together for shared learning and networking. \nIn addition\, a vendor showcase provides attendees with the opportunity to meet with companies that offer complementary products and services to the SkyFoundry community.
URL:https://ankalabs.com/event/skyposium-2021/
CATEGORIES:Community Event
ATTACH;FMTTYPE=image/jpeg:https://ankalabs.com/wp-content/uploads/2021/09/SkyPosium-2021-Img.jpg
ORGANIZER;CN="SkyFoundry":MAILTO:info@skyfoundry.com
END:VEVENT
BEGIN:VEVENT
DTSTART;TZID=America/Chicago:20210302T140000
DTEND;TZID=America/Chicago:20210302T150000
DTSTAMP:20260421T213000
CREATED:20210113T012129Z
LAST-MODIFIED:20210608T200528Z
UID:10000006-1614693600-1614697200@ankalabs.com
SUMMARY:Utilizing a Distributed Data and Computing Architecture in Analytics Applications
DESCRIPTION:The Energy Management Association and their Associate Members SkyFoundry and BASSG are hosting a free webinar panel with Altura Associates and ATS Automation. It will outline the benefits of implementing a distributed architecture in analytics\, which Alper Uzmezler\, BASSG\, called “the future.” \nThe first generation of analytics solutions were designed with the requirement to transmit all data from equipment systems to the cloud or centralized servers where analytics and the generation of visualizations and reports would then be performed. However\, there is tremendous value in recognizing the strategic impact of distributing analytics at different layers of our data networks and efficiency to be gained. \nIt may not always be possible or necessary to transmit every piece of data from every IoT device to the cloud before being able to gain value from that data. To realize the full benefits of analytics and the promise of the IoT\, systems need to embrace the highly distributed nature of facilities and equipment systems by providing an architecture that enables data acquisition\, analytics processing and control to occur where it is most efficient\, cost effective\, and reliable. \nLearning Objectives\nUnderstand the concept of a distributed\, edge-to-cloud analytics architecture \n\nUnderstand the benefits provided by implementing a distributed architecture \n\nUnderstand the use of a distributed architecture in multiple real world applications \n\nUnderstand analytics-driven control at the edge \nWho Should Attend?\nCommissioning Providers \n\nBuilding Owners & Facility Managers \n\nEnergy Managers \n\nMEP Engineers \n\nHVAC Testing Professionals \nSponsored bySkyFoundry: SkySpark Analytics automatically analyzes data from smart devices and equipment systems to identify issues\, faults\, deviations\, and anomalies enabling improved performance\, reduced downtime\, and operational savings \nBASSG: BASSG has been an innovator in Building Automation Technology and BAS Analytics delivery that reduce implementation and facility management energy costs. Through in-house developed easy-to-deploy\, multi-system software tools\, BASSG branded OEM products and multiple distributorships\, BASSG can be a one-stop provider for everything BAS at an unbeatable value\, significantly lowering implementation and maintenance costs.
URL:https://ankalabs.com/event/utilizing-a-distributed-data-and-computing-architecture-in-analytics-applications/
CATEGORIES:Webinars
ATTACH;FMTTYPE=image/jpeg:https://ankalabs.com/wp-content/uploads/2021/01/Webinar-Utilizing-a-Distributed-Data-and-Computing-Architecture-in-Analytics-Applications-1.jpg
END:VEVENT
END:VCALENDAR